BEGIN:VCALENDAR
VERSION:2.0
PRODID:-//Bidfood - ECPv6.15.17.1//NONSGML v1.0//EN
CALSCALE:GREGORIAN
METHOD:PUBLISH
X-ORIGINAL-URL:https://www.bidfood.co.uk
X-WR-CALDESC:Events for Bidfood
REFRESH-INTERVAL;VALUE=DURATION:PT1H
X-Robots-Tag:noindex
X-PUBLISHED-TTL:PT1H
BEGIN:VTIMEZONE
TZID:Europe/London
BEGIN:DAYLIGHT
TZOFFSETFROM:+0000
TZOFFSETTO:+0100
TZNAME:BST
DTSTART:20240331T010000
END:DAYLIGHT
BEGIN:STANDARD
TZOFFSETFROM:+0100
TZOFFSETTO:+0000
TZNAME:GMT
DTSTART:20241027T010000
END:STANDARD
BEGIN:DAYLIGHT
TZOFFSETFROM:+0000
TZOFFSETTO:+0100
TZNAME:BST
DTSTART:20250330T010000
END:DAYLIGHT
BEGIN:STANDARD
TZOFFSETFROM:+0100
TZOFFSETTO:+0000
TZNAME:GMT
DTSTART:20251026T010000
END:STANDARD
BEGIN:DAYLIGHT
TZOFFSETFROM:+0000
TZOFFSETTO:+0100
TZNAME:BST
DTSTART:20260329T010000
END:DAYLIGHT
BEGIN:STANDARD
TZOFFSETFROM:+0100
TZOFFSETTO:+0000
TZNAME:GMT
DTSTART:20261025T010000
END:STANDARD
END:VTIMEZONE
BEGIN:VEVENT
DTSTART;VALUE=DATE:20250303
DTEND;VALUE=DATE:20250310
DTSTAMP:20260421T203446
CREATED:20221128T125952Z
LAST-MODIFIED:20241115T102053Z
UID:1306854-1740960000-1741564799@www.bidfood.co.uk
SUMMARY:British Pie Week
DESCRIPTION:Celebrate British Pie Week by showcasing hearty\, comforting pies that are perfect for any menu. From traditional recipes to inventive flavours\, our British Pie range has everything you need to make this week a memorable (and delicious)!
URL:https://www.bidfood.co.uk/events/british-pie-week-bidfood/
CATEGORIES:- Business & Industry,- Care home,- Schools,Theme days
ATTACH;FMTTYPE=image/png:https://www.bidfood.co.uk/wp-content/uploads/2022/11/Pie-week.png
END:VEVENT
END:VCALENDAR