BEGIN:VCALENDAR
VERSION:2.0
PRODID:-//Bidfood - ECPv6.15.17.1//NONSGML v1.0//EN
CALSCALE:GREGORIAN
METHOD:PUBLISH
X-WR-CALNAME:Bidfood
X-ORIGINAL-URL:https://www.bidfood.co.uk
X-WR-CALDESC:Events for Bidfood
REFRESH-INTERVAL;VALUE=DURATION:PT1H
X-Robots-Tag:noindex
X-PUBLISHED-TTL:PT1H
BEGIN:VTIMEZONE
TZID:Europe/London
BEGIN:DAYLIGHT
TZOFFSETFROM:+0000
TZOFFSETTO:+0100
TZNAME:BST
DTSTART:20220327T010000
END:DAYLIGHT
BEGIN:STANDARD
TZOFFSETFROM:+0100
TZOFFSETTO:+0000
TZNAME:GMT
DTSTART:20221030T010000
END:STANDARD
BEGIN:DAYLIGHT
TZOFFSETFROM:+0000
TZOFFSETTO:+0100
TZNAME:BST
DTSTART:20230326T010000
END:DAYLIGHT
BEGIN:STANDARD
TZOFFSETFROM:+0100
TZOFFSETTO:+0000
TZNAME:GMT
DTSTART:20231029T010000
END:STANDARD
BEGIN:DAYLIGHT
TZOFFSETFROM:+0000
TZOFFSETTO:+0100
TZNAME:BST
DTSTART:20240331T010000
END:DAYLIGHT
BEGIN:STANDARD
TZOFFSETFROM:+0100
TZOFFSETTO:+0000
TZNAME:GMT
DTSTART:20241027T010000
END:STANDARD
END:VTIMEZONE
BEGIN:VEVENT
DTSTART;TZID=Europe/London:20231027T093000
DTEND;TZID=Europe/London:20231027T110000
DTSTAMP:20260423T041531
CREATED:20230915T072637Z
LAST-MODIFIED:20231006T083124Z
UID:1315005-1698399000-1698404400@www.bidfood.co.uk
SUMMARY:Bidfood Direct Building Blocks - episode 1 (The basics of Bidfood Direct)
DESCRIPTION:If you’re looking for a digital ordering platform which will make your life easier and save time\, let us show you why Bidfood Direct is the perfect answer! Or if you’re an existing customer and in need a refresher of our award-winning online shop\, then register to our webinar series. \nIn episode 1 of our 3 part series ‘Bidfood Direct Building Blocks’\, we will look at The basics of Bidfood Direct. Join us for a live demo from our ecommerce specialist\, Josh Brown\, which will cover: searching for products\, viewing product information\, allergen & dietary filters\, submitting orders\, reviewing orders\, invoices and credits. \nRegister to attend \n  \nFind out more and register for episode 2 (ways to speed up ordering) \nFind out more and register for episode 3 (MyRecipes)
URL:https://www.bidfood.co.uk/events/bidfood-direct-building-blocks-episode-1-the-basics-of-bidfood-direct/
CATEGORIES:Bidfood events
ATTACH;FMTTYPE=image/png:https://www.bidfood.co.uk/wp-content/uploads/2023/09/Bidfood-Direct-Episode-1.png
END:VEVENT
END:VCALENDAR