BEGIN:VCALENDAR
VERSION:2.0
PRODID:-//Bidfood - ECPv6.15.17.1//NONSGML v1.0//EN
CALSCALE:GREGORIAN
METHOD:PUBLISH
X-WR-CALNAME:Bidfood
X-ORIGINAL-URL:https://www.bidfood.co.uk
X-WR-CALDESC:Events for Bidfood
REFRESH-INTERVAL;VALUE=DURATION:PT1H
X-Robots-Tag:noindex
X-PUBLISHED-TTL:PT1H
BEGIN:VTIMEZONE
TZID:Europe/London
BEGIN:DAYLIGHT
TZOFFSETFROM:+0000
TZOFFSETTO:+0100
TZNAME:BST
DTSTART:20240331T010000
END:DAYLIGHT
BEGIN:STANDARD
TZOFFSETFROM:+0100
TZOFFSETTO:+0000
TZNAME:GMT
DTSTART:20241027T010000
END:STANDARD
BEGIN:DAYLIGHT
TZOFFSETFROM:+0000
TZOFFSETTO:+0100
TZNAME:BST
DTSTART:20250330T010000
END:DAYLIGHT
BEGIN:STANDARD
TZOFFSETFROM:+0100
TZOFFSETTO:+0000
TZNAME:GMT
DTSTART:20251026T010000
END:STANDARD
BEGIN:DAYLIGHT
TZOFFSETFROM:+0000
TZOFFSETTO:+0100
TZNAME:BST
DTSTART:20260329T010000
END:DAYLIGHT
BEGIN:STANDARD
TZOFFSETFROM:+0100
TZOFFSETTO:+0000
TZNAME:GMT
DTSTART:20261025T010000
END:STANDARD
END:VTIMEZONE
BEGIN:VEVENT
DTSTART;VALUE=DATE:20250214
DTEND;VALUE=DATE:20250215
DTSTAMP:20260424T231802
CREATED:20220902T132439Z
LAST-MODIFIED:20241115T101611Z
UID:1303814-1739491200-1739577599@www.bidfood.co.uk
SUMMARY:Valentines Day
DESCRIPTION:Set the mood this Valentine’s Day with irresistible flavours that are sure to spark romance! Why not set the scene with some of our delicious canapes from our Buffet guide\, followed by a heart-warming main from our mouth-watering meat and poultry selection. Did you know that Chocolicious is one of our drink trends for 2025? So why not integrate this into our Valentine’s dessert offering and sweeten your menu with our Hot Chocolate with Chai Latte Floater – delicious!
URL:https://www.bidfood.co.uk/events/valentines-day/
CATEGORIES:- Business & Industry,- Care home,- Schools,Industry wide,Theme days
ATTACH;FMTTYPE=image/png:https://www.bidfood.co.uk/wp-content/uploads/2022/09/Valentines.png
END:VEVENT
END:VCALENDAR