BEGIN:VCALENDAR
VERSION:2.0
PRODID:-//Bidfood - ECPv6.15.17.1//NONSGML v1.0//EN
CALSCALE:GREGORIAN
METHOD:PUBLISH
X-ORIGINAL-URL:https://www.bidfood.co.uk
X-WR-CALDESC:Events for Bidfood
REFRESH-INTERVAL;VALUE=DURATION:PT1H
X-Robots-Tag:noindex
X-PUBLISHED-TTL:PT1H
BEGIN:VTIMEZONE
TZID:Europe/London
BEGIN:DAYLIGHT
TZOFFSETFROM:+0000
TZOFFSETTO:+0100
TZNAME:BST
DTSTART:20240331T010000
END:DAYLIGHT
BEGIN:STANDARD
TZOFFSETFROM:+0100
TZOFFSETTO:+0000
TZNAME:GMT
DTSTART:20241027T010000
END:STANDARD
BEGIN:DAYLIGHT
TZOFFSETFROM:+0000
TZOFFSETTO:+0100
TZNAME:BST
DTSTART:20250330T010000
END:DAYLIGHT
BEGIN:STANDARD
TZOFFSETFROM:+0100
TZOFFSETTO:+0000
TZNAME:GMT
DTSTART:20251026T010000
END:STANDARD
BEGIN:DAYLIGHT
TZOFFSETFROM:+0000
TZOFFSETTO:+0100
TZNAME:BST
DTSTART:20260329T010000
END:DAYLIGHT
BEGIN:STANDARD
TZOFFSETFROM:+0100
TZOFFSETTO:+0000
TZNAME:GMT
DTSTART:20261025T010000
END:STANDARD
END:VTIMEZONE
BEGIN:VEVENT
DTSTART;VALUE=DATE:20250101
DTEND;VALUE=DATE:20250201
DTSTAMP:20260425T003258
CREATED:20220902T130903Z
LAST-MODIFIED:20241115T095436Z
UID:1303805-1735689600-1738367999@www.bidfood.co.uk
SUMMARY:Veganuary
DESCRIPTION:Did you know that 61% of adults can name at least one meat alternative they’re interested in trying*? This Veganuary\, why not add some of our simple\, yet tasty Meat Free Buffet options to your offerings and give your customers something new to enjoy? Don’t forget to also check out our Meat Free Space range which provides a diverse selection of vegetarian\, vegan\, and plant-based products that make it easy to craft delicious menu items. Need some inspiration for Vegan ice cream flavours? Take a look at our blog on all the flavours you need to scoop up! \n*3 CGA Proprietary data\, 2\,003 UK consumer
URL:https://www.bidfood.co.uk/events/veganuary/
CATEGORIES:- Business & Industry,- Care home,- Schools,Industry wide,Theme days
ATTACH;FMTTYPE=image/png:https://www.bidfood.co.uk/wp-content/uploads/2022/09/Veganuary.png
END:VEVENT
BEGIN:VEVENT
DTSTART;VALUE=DATE:20250125
DTEND;VALUE=DATE:20250126
DTSTAMP:20260425T003258
CREATED:20220902T130508Z
LAST-MODIFIED:20241115T100734Z
UID:1303802-1737763200-1737849599@www.bidfood.co.uk
SUMMARY:Burns Night
DESCRIPTION:Get involved in the festivities by serving up classic Scottish dishes and make sure to check out our Scottish recipes for some culinary inspiration! For more tips\, ideas and updates\, be sure to visit our Bidfood Scotland page and stay in the loop with the latest news.
URL:https://www.bidfood.co.uk/events/burns-night/
CATEGORIES:- Business & Industry,- Care home,- Schools,Theme days
ATTACH;FMTTYPE=image/png:https://www.bidfood.co.uk/wp-content/uploads/2022/09/Caterers-Calendar-images-1.png
END:VEVENT
BEGIN:VEVENT
DTSTART;VALUE=DATE:20250129
DTEND;VALUE=DATE:20250130
DTSTAMP:20260425T003258
CREATED:20220902T132120Z
LAST-MODIFIED:20241115T100937Z
UID:1303811-1738108800-1738195199@www.bidfood.co.uk
SUMMARY:Chinese New Year
DESCRIPTION:Chinese New Year 2025 ushers in the ‘Year of the Snake’ according to the Chinese Zodiac. Take inspiration from the Asian range in our World Foods campaign which is full of oriental-inspired foods\, recipes and concepts to add to your menus. Looking for a new dish? Then check out our top Asian Cuisine recipe\, Korean Fried Cauliflower – super simple yet super tasty!
URL:https://www.bidfood.co.uk/events/chinese-new-year/
CATEGORIES:- Business & Industry,- Care home,- Schools,Theme days
ATTACH;FMTTYPE=image/png:https://www.bidfood.co.uk/wp-content/uploads/2022/09/Chinese-New-Year.png
END:VEVENT
END:VCALENDAR