BEGIN:VCALENDAR
VERSION:2.0
PRODID:-//Bidfood - ECPv6.15.17.1//NONSGML v1.0//EN
CALSCALE:GREGORIAN
METHOD:PUBLISH
X-ORIGINAL-URL:https://www.bidfood.co.uk
X-WR-CALDESC:Events for Bidfood
REFRESH-INTERVAL;VALUE=DURATION:PT1H
X-Robots-Tag:noindex
X-PUBLISHED-TTL:PT1H
BEGIN:VTIMEZONE
TZID:Europe/London
BEGIN:DAYLIGHT
TZOFFSETFROM:+0000
TZOFFSETTO:+0100
TZNAME:BST
DTSTART:20230326T010000
END:DAYLIGHT
BEGIN:STANDARD
TZOFFSETFROM:+0100
TZOFFSETTO:+0000
TZNAME:GMT
DTSTART:20231029T010000
END:STANDARD
BEGIN:DAYLIGHT
TZOFFSETFROM:+0000
TZOFFSETTO:+0100
TZNAME:BST
DTSTART:20240331T010000
END:DAYLIGHT
BEGIN:STANDARD
TZOFFSETFROM:+0100
TZOFFSETTO:+0000
TZNAME:GMT
DTSTART:20241027T010000
END:STANDARD
BEGIN:DAYLIGHT
TZOFFSETFROM:+0000
TZOFFSETTO:+0100
TZNAME:BST
DTSTART:20250330T010000
END:DAYLIGHT
BEGIN:STANDARD
TZOFFSETFROM:+0100
TZOFFSETTO:+0000
TZNAME:GMT
DTSTART:20251026T010000
END:STANDARD
END:VTIMEZONE
BEGIN:VEVENT
DTSTART;VALUE=DATE:20240304
DTEND;VALUE=DATE:20240311
DTSTAMP:20260423T080633
CREATED:20231206T124840Z
LAST-MODIFIED:20231206T124840Z
UID:1317145-1709510400-1710115199@www.bidfood.co.uk
SUMMARY:National Butchers Week
DESCRIPTION:We’re proud to celebrate this week by highlighting one of our own- Jim Doherty\, who is part of our Farmstead team\, holds the accreditation of Master Butcher with The Institute of Meat\, and has 48 years’ experience of working in the meat business. Take a look at Jim’s skills in action here! Join us this week by adding new meat dishes to your menu from our Farmstead range\, and remind your customers of the great meat selection you already have available.
URL:https://www.bidfood.co.uk/events/national-butchers-week/
CATEGORIES:Industry wide
ATTACH;FMTTYPE=image/png:https://www.bidfood.co.uk/wp-content/uploads/2023/12/Caterers-Calendar-images-54-2.png
END:VEVENT
BEGIN:VEVENT
DTSTART;VALUE=DATE:20240330
DTEND;VALUE=DATE:20240331
DTSTAMP:20260423T080633
CREATED:20221208T154137Z
LAST-MODIFIED:20241115T102445Z
UID:1307279-1711756800-1711843199@www.bidfood.co.uk
SUMMARY:Mother’s Day
DESCRIPTION:Make special memories this Mothering Sunday by adding delightful afternoon tea options to your menu! Or why not sweeten the occasion with our range of delicious pastries? Don’t forget to check out our dessert recipes – perfect for making the day truly special.
URL:https://www.bidfood.co.uk/events/mothers-day/
CATEGORIES:Industry wide
ATTACH;FMTTYPE=image/png:https://www.bidfood.co.uk/wp-content/uploads/2022/12/Mothers-Day.png
END:VEVENT
BEGIN:VEVENT
DTSTART;VALUE=DATE:20240331
DTEND;VALUE=DATE:20240401
DTSTAMP:20260423T080633
CREATED:20231206T123830Z
LAST-MODIFIED:20240131T134325Z
UID:1317139-1711843200-1711929599@www.bidfood.co.uk
SUMMARY:Easter Sunday
DESCRIPTION:Get egg-cited this long Easter weekend and tempt your customer’s with delicious food! Easter is a significant holiday for many people worldwide with Lent ending on Easter Sunday\, this makes Easter the perfect occasion to cook up some delicious dishes inspired by classic Easter time foods. Why not try our Everyday Favourites Hot Cross Cheesy Buns recipe for a tasty treat or add some special desserts to your menus from our recipe selection.  \n 
URL:https://www.bidfood.co.uk/events/easter-sunday/
CATEGORIES:Industry wide
ATTACH;FMTTYPE=image/png:https://www.bidfood.co.uk/wp-content/uploads/2023/12/Caterers-Calendar-images-55.png
END:VEVENT
END:VCALENDAR