BEGIN:VCALENDAR
VERSION:2.0
PRODID:-//Bidfood - ECPv6.15.17.1//NONSGML v1.0//EN
CALSCALE:GREGORIAN
METHOD:PUBLISH
X-ORIGINAL-URL:https://www.bidfood.co.uk
X-WR-CALDESC:Events for Bidfood
REFRESH-INTERVAL;VALUE=DURATION:PT1H
X-Robots-Tag:noindex
X-PUBLISHED-TTL:PT1H
BEGIN:VTIMEZONE
TZID:Europe/London
BEGIN:DAYLIGHT
TZOFFSETFROM:+0000
TZOFFSETTO:+0100
TZNAME:BST
DTSTART:20220327T010000
END:DAYLIGHT
BEGIN:STANDARD
TZOFFSETFROM:+0100
TZOFFSETTO:+0000
TZNAME:GMT
DTSTART:20221030T010000
END:STANDARD
BEGIN:DAYLIGHT
TZOFFSETFROM:+0000
TZOFFSETTO:+0100
TZNAME:BST
DTSTART:20230326T010000
END:DAYLIGHT
BEGIN:STANDARD
TZOFFSETFROM:+0100
TZOFFSETTO:+0000
TZNAME:GMT
DTSTART:20231029T010000
END:STANDARD
BEGIN:DAYLIGHT
TZOFFSETFROM:+0000
TZOFFSETTO:+0100
TZNAME:BST
DTSTART:20240331T010000
END:DAYLIGHT
BEGIN:STANDARD
TZOFFSETFROM:+0100
TZOFFSETTO:+0000
TZNAME:GMT
DTSTART:20241027T010000
END:STANDARD
END:VTIMEZONE
BEGIN:VEVENT
DTSTART;VALUE=DATE:20230421
DTEND;VALUE=DATE:20230423
DTSTAMP:20260423T040313
CREATED:20230215T162136Z
LAST-MODIFIED:20230307T145219Z
UID:1308334-1682035200-1682207999@www.bidfood.co.uk
SUMMARY:HCA Forum
DESCRIPTION:Bidfood will be in attendance at this year’s Hospital Caterers Association Forum held at the Birmingham Hilton Metropole. The HCA Forum is the only UK event dedicated to the production\, delivery and service of nutritious food to patients\, staff and visitors in the NHS.
URL:https://www.bidfood.co.uk/events/hca-forum/
CATEGORIES:Bidfood events,Industry wide
ATTACH;FMTTYPE=image/jpeg:https://www.bidfood.co.uk/wp-content/uploads/2023/02/tmp_a011ec3f-110a-43ad-993d-74262f46f26a.jpeg
END:VEVENT
END:VCALENDAR