BEGIN:VCALENDAR
VERSION:2.0
PRODID:-//Bidfood - ECPv6.15.17.1//NONSGML v1.0//EN
CALSCALE:GREGORIAN
METHOD:PUBLISH
X-WR-CALNAME:Bidfood
X-ORIGINAL-URL:https://www.bidfood.co.uk
X-WR-CALDESC:Events for Bidfood
REFRESH-INTERVAL;VALUE=DURATION:PT1H
X-Robots-Tag:noindex
X-PUBLISHED-TTL:PT1H
BEGIN:VTIMEZONE
TZID:Europe/London
BEGIN:DAYLIGHT
TZOFFSETFROM:+0000
TZOFFSETTO:+0100
TZNAME:BST
DTSTART:20240331T010000
END:DAYLIGHT
BEGIN:STANDARD
TZOFFSETFROM:+0100
TZOFFSETTO:+0000
TZNAME:GMT
DTSTART:20241027T010000
END:STANDARD
BEGIN:DAYLIGHT
TZOFFSETFROM:+0000
TZOFFSETTO:+0100
TZNAME:BST
DTSTART:20250330T010000
END:DAYLIGHT
BEGIN:STANDARD
TZOFFSETFROM:+0100
TZOFFSETTO:+0000
TZNAME:GMT
DTSTART:20251026T010000
END:STANDARD
BEGIN:DAYLIGHT
TZOFFSETFROM:+0000
TZOFFSETTO:+0100
TZNAME:BST
DTSTART:20260329T010000
END:DAYLIGHT
BEGIN:STANDARD
TZOFFSETFROM:+0100
TZOFFSETTO:+0000
TZNAME:GMT
DTSTART:20261025T010000
END:STANDARD
END:VTIMEZONE
BEGIN:VEVENT
DTSTART;TZID=Europe/London:20250401T100000
DTEND;TZID=Europe/London:20250401T150000
DTSTAMP:20260421T101733
CREATED:20250117T092301Z
LAST-MODIFIED:20250210T094743Z
UID:1329295-1743501600-1743519600@www.bidfood.co.uk
SUMMARY:Inverness Big Food & Drink Show - Sign up here!
DESCRIPTION:At our Big Food & Drink Shows\, you’ll have the chance to connect directly with our team\, suppliers\, and other professionals in the food and drink industry. You’ll also experience a wide array of innovative concepts and the latest trends in food and drink. \n  \nPlease register for a free ticket to the event below. \nYou will then receive your ticket by email or\, if you choose to download the free Eventbrite app\, you can store them there ready for the day. \nYou’re welcome to bring people with you but please ensure that they have registered for a ticket as well. \n  \nVenue: Kingsmills Hotel\, Culcabock Rd\, Inverness IV2 3LP \nRegister to attend
URL:https://www.bidfood.co.uk/events/inverness-big-food-drink-show/
CATEGORIES:Bidfood events
ATTACH;FMTTYPE=image/jpeg:https://www.bidfood.co.uk/wp-content/uploads/2025/01/The-Big-Food-and-Drink-Show-Inverness.jpg
END:VEVENT
END:VCALENDAR